Package: PathoStat Version: 1.26.0 Command: rm -rf PathoStat.buildbin-libdir && mkdir PathoStat.buildbin-libdir && F:\biocbuild\bbs-3.17-bioc\R\bin\R.exe CMD INSTALL --build --library=PathoStat.buildbin-libdir PathoStat_1.26.0.tar.gz StartedAt: 2023-10-16 09:14:36 -0400 (Mon, 16 Oct 2023) EndedAt: 2023-10-16 09:15:17 -0400 (Mon, 16 Oct 2023) EllapsedTime: 41.6 seconds RetCode: 0 Status: OK PackageFile: PathoStat_1.26.0.zip PackageFileSize: 1.054 MiB