Package: PathoStat Version: 1.26.0 Command: F:\biocbuild\bbs-3.17-bioc\R\bin\R.exe CMD INSTALL PathoStat StartedAt: 2023-10-15 16:45:53 -0400 (Sun, 15 Oct 2023) EndedAt: 2023-10-15 16:46:35 -0400 (Sun, 15 Oct 2023) EllapsedTime: 42.1 seconds RetCode: 0 Status: OK