Package: PhosR Version: 1.10.0 Command: /home/biocbuild/bbs-3.17-bioc/R/bin/R CMD build --keep-empty-dirs --no-resave-data PhosR StartedAt: 2023-10-15 17:57:51 -0400 (Sun, 15 Oct 2023) EndedAt: 2023-10-15 18:00:42 -0400 (Sun, 15 Oct 2023) EllapsedTime: 170.6 seconds RetCode: 0 Status: OK PackageFile: PhosR_1.10.0.tar.gz PackageFileSize: 7.259 MiB