Package: PhosR Version: 1.10.0 Command: /home/biocbuild/bbs-3.17-bioc/R/bin/R CMD check --install=check:PhosR.install-out.txt --library=/home/biocbuild/bbs-3.17-bioc/R/site-library --timings PhosR_1.10.0.tar.gz StartedAt: 2023-10-15 23:52:30 -0400 (Sun, 15 Oct 2023) EndedAt: 2023-10-16 00:00:17 -0400 (Mon, 16 Oct 2023) EllapsedTime: 467.0 seconds RetCode: 0 Status: OK CheckDir: PhosR.Rcheck Warnings: 0