Package: PhosR Version: 1.10.0 Command: /home/biocbuild/bbs-3.17-bioc/R/bin/R CMD INSTALL PhosR StartedAt: 2023-10-15 15:45:30 -0400 (Sun, 15 Oct 2023) EndedAt: 2023-10-15 15:45:57 -0400 (Sun, 15 Oct 2023) EllapsedTime: 27.3 seconds RetCode: 0 Status: OK