Package: PhosR Version: 1.10.0 Command: chmod a+r PhosR -R && F:\biocbuild\bbs-3.17-bioc\R\bin\R.exe CMD build --keep-empty-dirs --no-resave-data PhosR StartedAt: 2023-10-15 21:20:59 -0400 (Sun, 15 Oct 2023) EndedAt: 2023-10-15 21:26:21 -0400 (Sun, 15 Oct 2023) EllapsedTime: 322.0 seconds RetCode: 0 Status: OK PackageFile: PhosR_1.10.0.tar.gz PackageFileSize: 6.711 MiB