Package: PhosR Version: 1.10.0 Command: F:\biocbuild\bbs-3.17-bioc\R\bin\R.exe CMD check --no-multiarch --install=check:PhosR.install-out.txt --library=F:\biocbuild\bbs-3.17-bioc\R\library --no-vignettes --timings PhosR_1.10.0.tar.gz StartedAt: 2023-10-16 05:17:05 -0400 (Mon, 16 Oct 2023) EndedAt: 2023-10-16 05:22:58 -0400 (Mon, 16 Oct 2023) EllapsedTime: 352.2 seconds RetCode: 0 Status: OK CheckDir: PhosR.Rcheck Warnings: 0