Package: PhosR Version: 1.10.0 Command: F:\biocbuild\bbs-3.17-bioc\R\bin\R.exe CMD INSTALL PhosR StartedAt: 2023-10-15 16:57:46 -0400 (Sun, 15 Oct 2023) EndedAt: 2023-10-15 16:58:23 -0400 (Sun, 15 Oct 2023) EllapsedTime: 36.7 seconds RetCode: 0 Status: OK