Package: Pi Version: 2.12.0 Command: /Library/Frameworks/R.framework/Resources/bin/R CMD build --keep-empty-dirs --no-resave-data Pi StartedAt: 2023-10-15 20:17:24 -0400 (Sun, 15 Oct 2023) EndedAt: 2023-10-15 20:20:03 -0400 (Sun, 15 Oct 2023) EllapsedTime: 158.6 seconds RetCode: 0 Status: OK PackageFile: Pi_2.12.0.tar.gz PackageFileSize: 2.874 MiB