Package: Pi Version: 2.12.0 Command: rm -rf Pi.buildbin-libdir && mkdir Pi.buildbin-libdir && F:\biocbuild\bbs-3.17-bioc\R\bin\R.exe CMD INSTALL --build --library=Pi.buildbin-libdir Pi_2.12.0.tar.gz StartedAt: 2023-10-16 09:15:46 -0400 (Mon, 16 Oct 2023) EndedAt: 2023-10-16 09:16:30 -0400 (Mon, 16 Oct 2023) EllapsedTime: 43.3 seconds RetCode: 0 Status: OK PackageFile: Pi_2.12.0.zip PackageFileSize: 2.914 MiB