Package: Pi Version: 2.12.0 Command: F:\biocbuild\bbs-3.17-bioc\R\bin\R.exe CMD check --no-multiarch --install=check:Pi.install-out.txt --library=F:\biocbuild\bbs-3.17-bioc\R\library --no-vignettes --timings Pi_2.12.0.tar.gz StartedAt: 2023-10-16 05:17:54 -0400 (Mon, 16 Oct 2023) EndedAt: 2023-10-16 05:21:13 -0400 (Mon, 16 Oct 2023) EllapsedTime: 199.0 seconds RetCode: 0 Status: WARNINGS CheckDir: Pi.Rcheck Warnings: 2