Package: Pigengene Version: 1.26.0 Command: /Library/Frameworks/R.framework/Resources/bin/R CMD INSTALL Pigengene StartedAt: 2023-10-15 16:20:05 -0400 (Sun, 15 Oct 2023) EndedAt: 2023-10-15 16:21:39 -0400 (Sun, 15 Oct 2023) EllapsedTime: 94.2 seconds RetCode: 0 Status: OK