Package: Pigengene Version: 1.26.0 Command: /home/biocbuild/bbs-3.17-bioc/R/bin/R CMD check --install=check:Pigengene.install-out.txt --library=/home/biocbuild/bbs-3.17-bioc/R/site-library --timings Pigengene_1.26.0.tar.gz StartedAt: 2023-10-15 23:54:10 -0400 (Sun, 15 Oct 2023) EndedAt: 2023-10-16 00:06:37 -0400 (Mon, 16 Oct 2023) EllapsedTime: 747.0 seconds RetCode: 0 Status: OK CheckDir: Pigengene.Rcheck Warnings: 0