Package: QSutils Version: 1.18.0 Command: rm -rf QSutils.buildbin-libdir && mkdir QSutils.buildbin-libdir && F:\biocbuild\bbs-3.17-bioc\R\bin\R.exe CMD INSTALL --build --library=QSutils.buildbin-libdir QSutils_1.18.0.tar.gz StartedAt: 2023-10-16 09:19:06 -0400 (Mon, 16 Oct 2023) EndedAt: 2023-10-16 09:19:27 -0400 (Mon, 16 Oct 2023) EllapsedTime: 21.4 seconds RetCode: 0 Status: OK PackageFile: QSutils_1.18.0.zip PackageFileSize: 1.219 MiB