Package: R3CPET Version: 1.32.0 Command: /home/biocbuild/bbs-3.17-bioc/R/bin/R CMD build --keep-empty-dirs --no-resave-data R3CPET StartedAt: 2023-10-15 18:05:15 -0400 (Sun, 15 Oct 2023) EndedAt: 2023-10-15 18:07:04 -0400 (Sun, 15 Oct 2023) EllapsedTime: 108.3 seconds RetCode: 0 Status: OK PackageFile: R3CPET_1.32.0.tar.gz PackageFileSize: 5.081 MiB