Package: R3CPET Version: 1.32.0 Command: /home/biocbuild/bbs-3.17-bioc/R/bin/R CMD check --install=check:R3CPET.install-out.txt --library=/home/biocbuild/bbs-3.17-bioc/R/site-library --timings R3CPET_1.32.0.tar.gz StartedAt: 2023-10-16 00:11:33 -0400 (Mon, 16 Oct 2023) EndedAt: 2023-10-16 00:17:27 -0400 (Mon, 16 Oct 2023) EllapsedTime: 354.7 seconds RetCode: 0 Status: WARNINGS CheckDir: R3CPET.Rcheck Warnings: 1