Package: RCAS Version: 1.26.0 Command: /home/biocbuild/bbs-3.17-bioc/R/bin/R CMD check --install=check:RCAS.install-out.txt --library=/home/biocbuild/bbs-3.17-bioc/R/site-library --timings RCAS_1.26.0.tar.gz StartedAt: 2023-10-16 00:15:30 -0400 (Mon, 16 Oct 2023) EndedAt: 2023-10-16 00:21:54 -0400 (Mon, 16 Oct 2023) EllapsedTime: 384.3 seconds RetCode: 1 Status: ERROR CheckDir: RCAS.Rcheck Warnings: NA