Package: RCAS Version: 1.26.0 Command: F:\biocbuild\bbs-3.17-bioc\R\bin\R.exe CMD check --no-multiarch --install=check:RCAS.install-out.txt --library=F:\biocbuild\bbs-3.17-bioc\R\library --no-vignettes --timings RCAS_1.26.0.tar.gz StartedAt: 2023-10-16 05:44:21 -0400 (Mon, 16 Oct 2023) EndedAt: 2023-10-16 05:54:48 -0400 (Mon, 16 Oct 2023) EllapsedTime: 626.4 seconds RetCode: 0 Status: OK CheckDir: RCAS.Rcheck Warnings: 0