Package: RCX Version: 1.4.0 Command: /Library/Frameworks/R.framework/Resources/bin/R CMD build --keep-empty-dirs --no-resave-data RCX StartedAt: 2023-10-15 20:34:32 -0400 (Sun, 15 Oct 2023) EndedAt: 2023-10-15 20:35:30 -0400 (Sun, 15 Oct 2023) EllapsedTime: 57.9 seconds RetCode: 0 Status: OK PackageFile: RCX_1.4.0.tar.gz PackageFileSize: 4.573 MiB