Package: RGMQL Version: 1.20.0 Command: F:\biocbuild\bbs-3.17-bioc\R\bin\R.exe CMD check --no-multiarch --install=check:RGMQL.install-out.txt --library=F:\biocbuild\bbs-3.17-bioc\R\library --no-vignettes --timings RGMQL_1.20.0.tar.gz StartedAt: 2023-10-16 05:55:57 -0400 (Mon, 16 Oct 2023) EndedAt: 2023-10-16 06:03:35 -0400 (Mon, 16 Oct 2023) EllapsedTime: 458.1 seconds RetCode: 1 Status: ERROR CheckDir: RGMQL.Rcheck Warnings: NA