Package: RJMCMCNucleosomes Version: 1.24.0 Command: rm -rf RJMCMCNucleosomes.buildbin-libdir && mkdir RJMCMCNucleosomes.buildbin-libdir && F:\biocbuild\bbs-3.17-bioc\R\bin\R.exe CMD INSTALL --build --library=RJMCMCNucleosomes.buildbin-libdir RJMCMCNucleosomes_1.24.0.tar.gz StartedAt: 2023-10-16 09:24:18 -0400 (Mon, 16 Oct 2023) EndedAt: 2023-10-16 09:25:34 -0400 (Mon, 16 Oct 2023) EllapsedTime: 75.6 seconds RetCode: 0 Status: OK PackageFile: RJMCMCNucleosomes_1.24.0.zip PackageFileSize: 1.041 MiB