Package: RNAmodR Version: 1.14.0 Command: /Library/Frameworks/R.framework/Resources/bin/R CMD build --keep-empty-dirs --no-resave-data RNAmodR StartedAt: 2023-10-15 20:46:03 -0400 (Sun, 15 Oct 2023) EndedAt: 2023-10-15 20:52:43 -0400 (Sun, 15 Oct 2023) EllapsedTime: 399.9 seconds RetCode: 0 Status: OK PackageFile: RNAmodR_1.14.0.tar.gz PackageFileSize: 1.482 MiB