Package: ROTS Version: 1.28.0 Command: /home/biocbuild/bbs-3.17-bioc/R/bin/R CMD build --keep-empty-dirs --no-resave-data ROTS StartedAt: 2023-10-15 18:17:32 -0400 (Sun, 15 Oct 2023) EndedAt: 2023-10-15 18:17:57 -0400 (Sun, 15 Oct 2023) EllapsedTime: 24.9 seconds RetCode: 0 Status: OK PackageFile: ROTS_1.28.0.tar.gz PackageFileSize: 344.5 KiB