Package: ROTS Version: 1.28.0 Command: /home/biocbuild/bbs-3.17-bioc/R/bin/R CMD check --install=check:ROTS.install-out.txt --library=/home/biocbuild/bbs-3.17-bioc/R/site-library --timings ROTS_1.28.0.tar.gz StartedAt: 2023-10-16 00:35:19 -0400 (Mon, 16 Oct 2023) EndedAt: 2023-10-16 00:36:07 -0400 (Mon, 16 Oct 2023) EllapsedTime: 47.4 seconds RetCode: 0 Status: OK CheckDir: ROTS.Rcheck Warnings: 0