Package: RPA Version: 1.56.0 Command: /Library/Frameworks/R.framework/Resources/bin/R CMD INSTALL RPA StartedAt: 2023-10-15 16:09:28 -0400 (Sun, 15 Oct 2023) EndedAt: 2023-10-15 16:10:39 -0400 (Sun, 15 Oct 2023) EllapsedTime: 70.8 seconds RetCode: 0 Status: OK