Package: RPA Version: 1.56.0 Command: /home/biocbuild/bbs-3.17-bioc/R/bin/R CMD INSTALL RPA StartedAt: 2023-10-15 15:38:39 -0400 (Sun, 15 Oct 2023) EndedAt: 2023-10-15 15:39:00 -0400 (Sun, 15 Oct 2023) EllapsedTime: 21.6 seconds RetCode: 0 Status: OK