Package: RSVSim Version: 1.40.0 Command: /home/biocbuild/bbs-3.17-bioc/R/bin/R CMD build --keep-empty-dirs --no-resave-data RSVSim StartedAt: 2023-10-15 18:18:45 -0400 (Sun, 15 Oct 2023) EndedAt: 2023-10-15 18:19:36 -0400 (Sun, 15 Oct 2023) EllapsedTime: 50.4 seconds RetCode: 0 Status: OK PackageFile: RSVSim_1.40.0.tar.gz PackageFileSize: 504.9 KiB