Package: RSVSim Version: 1.40.0 Command: chmod a+r RSVSim -R && F:\biocbuild\bbs-3.17-bioc\R\bin\R.exe CMD build --keep-empty-dirs --no-resave-data RSVSim StartedAt: 2023-10-15 21:58:33 -0400 (Sun, 15 Oct 2023) EndedAt: 2023-10-15 21:59:29 -0400 (Sun, 15 Oct 2023) EllapsedTime: 55.6 seconds RetCode: 0 Status: OK PackageFile: RSVSim_1.40.0.tar.gz PackageFileSize: 505.3 KiB