Package: RSVSim Version: 1.40.0 Command: F:\biocbuild\bbs-3.17-bioc\R\bin\R.exe CMD check --no-multiarch --install=check:RSVSim.install-out.txt --library=F:\biocbuild\bbs-3.17-bioc\R\library --no-vignettes --timings RSVSim_1.40.0.tar.gz StartedAt: 2023-10-16 06:16:48 -0400 (Mon, 16 Oct 2023) EndedAt: 2023-10-16 06:19:59 -0400 (Mon, 16 Oct 2023) EllapsedTime: 191.1 seconds RetCode: 0 Status: OK CheckDir: RSVSim.Rcheck Warnings: 0