Package: RTCGAToolbox Version: 2.30.0 Command: rm -rf RTCGAToolbox.buildbin-libdir && mkdir RTCGAToolbox.buildbin-libdir && F:\biocbuild\bbs-3.17-bioc\R\bin\R.exe CMD INSTALL --build --library=RTCGAToolbox.buildbin-libdir RTCGAToolbox_2.30.0.tar.gz StartedAt: 2023-10-16 09:26:47 -0400 (Mon, 16 Oct 2023) EndedAt: 2023-10-16 09:27:23 -0400 (Mon, 16 Oct 2023) EllapsedTime: 35.9 seconds RetCode: 0 Status: OK PackageFile: RTCGAToolbox_2.30.0.zip PackageFileSize: 644.2 KiB