Package: RTNsurvival Version: 1.24.0 Command: chmod a+r RTNsurvival -R && F:\biocbuild\bbs-3.17-bioc\R\bin\R.exe CMD build --keep-empty-dirs --no-resave-data RTNsurvival StartedAt: 2023-10-15 21:59:22 -0400 (Sun, 15 Oct 2023) EndedAt: 2023-10-15 22:00:14 -0400 (Sun, 15 Oct 2023) EllapsedTime: 52.7 seconds RetCode: 0 Status: OK PackageFile: RTNsurvival_1.24.0.tar.gz PackageFileSize: 732.9 KiB