Package: RTNsurvival Version: 1.24.0 Command: F:\biocbuild\bbs-3.17-bioc\R\bin\R.exe CMD check --no-multiarch --install=check:RTNsurvival.install-out.txt --library=F:\biocbuild\bbs-3.17-bioc\R\library --no-vignettes --timings RTNsurvival_1.24.0.tar.gz StartedAt: 2023-10-16 06:17:40 -0400 (Mon, 16 Oct 2023) EndedAt: 2023-10-16 06:21:04 -0400 (Mon, 16 Oct 2023) EllapsedTime: 204.0 seconds RetCode: 0 Status: OK CheckDir: RTNsurvival.Rcheck Warnings: 0