Package: RTNsurvival Version: 1.24.0 Command: F:\biocbuild\bbs-3.17-bioc\R\bin\R.exe CMD INSTALL RTNsurvival StartedAt: 2023-10-15 16:56:26 -0400 (Sun, 15 Oct 2023) EndedAt: 2023-10-15 16:57:05 -0400 (Sun, 15 Oct 2023) EllapsedTime: 39.0 seconds RetCode: 0 Status: OK