Package: RadioGx Version: 2.4.0 Command: rm -rf RadioGx.buildbin-libdir && mkdir RadioGx.buildbin-libdir && /Users/biocbuild/BBS/utils/build-universal.sh RadioGx_2.4.0.tar.gz /Library/Frameworks/R.framework/Resources/bin/R RadioGx.buildbin-libdir StartedAt: 2023-10-16 09:59:40 -0400 (Mon, 16 Oct 2023) EndedAt: 2023-10-16 10:01:50 -0400 (Mon, 16 Oct 2023) EllapsedTime: 129.8 seconds RetCode: 0 Status: OK PackageFile: RadioGx_2.4.0.tgz PackageFileSize: 4.438 MiB