Package: RadioGx Version: 2.4.0 Command: chmod a+r RadioGx -R && F:\biocbuild\bbs-3.17-bioc\R\bin\R.exe CMD build --keep-empty-dirs --no-resave-data RadioGx StartedAt: 2023-10-15 21:36:26 -0400 (Sun, 15 Oct 2023) EndedAt: 2023-10-15 21:37:24 -0400 (Sun, 15 Oct 2023) EllapsedTime: 58.2 seconds RetCode: 0 Status: OK PackageFile: RadioGx_2.4.0.tar.gz PackageFileSize: 2.736 MiB