Package: ReactomeGraph4R Version: 1.8.0 Command: /home/biocbuild/bbs-3.17-bioc/R/bin/R CMD check --install=check:ReactomeGraph4R.install-out.txt --library=/home/biocbuild/bbs-3.17-bioc/R/site-library --timings ReactomeGraph4R_1.8.0.tar.gz StartedAt: 2023-10-16 00:17:28 -0400 (Mon, 16 Oct 2023) EndedAt: 2023-10-16 00:18:05 -0400 (Mon, 16 Oct 2023) EllapsedTime: 37.0 seconds RetCode: 0 Status: OK CheckDir: ReactomeGraph4R.Rcheck Warnings: 0