Package: ReactomeGraph4R Version: 1.8.0 Command: rm -rf ReactomeGraph4R.buildbin-libdir && mkdir ReactomeGraph4R.buildbin-libdir && F:\biocbuild\bbs-3.17-bioc\R\bin\R.exe CMD INSTALL --build --library=ReactomeGraph4R.buildbin-libdir ReactomeGraph4R_1.8.0.tar.gz StartedAt: 2023-10-16 09:21:25 -0400 (Mon, 16 Oct 2023) EndedAt: 2023-10-16 09:21:37 -0400 (Mon, 16 Oct 2023) EllapsedTime: 12.2 seconds RetCode: 0 Status: OK PackageFile: ReactomeGraph4R_1.8.0.zip PackageFileSize: 875 KiB