Package: ReactomeGraph4R Version: 1.8.0 Command: chmod a+r ReactomeGraph4R -R && F:\biocbuild\bbs-3.17-bioc\R\bin\R.exe CMD build --keep-empty-dirs --no-resave-data ReactomeGraph4R StartedAt: 2023-10-15 21:42:13 -0400 (Sun, 15 Oct 2023) EndedAt: 2023-10-15 21:42:33 -0400 (Sun, 15 Oct 2023) EllapsedTime: 20.5 seconds RetCode: 0 Status: OK PackageFile: ReactomeGraph4R_1.8.0.tar.gz PackageFileSize: 942 KiB