Package: RefPlus Version: 1.70.0 Command: /Library/Frameworks/R.framework/Resources/bin/R CMD check --install=check:RefPlus.install-out.txt --library=/Library/Frameworks/R.framework/Resources/library --no-vignettes --timings RefPlus_1.70.0.tar.gz StartedAt: 2023-10-16 05:55:28 -0400 (Mon, 16 Oct 2023) EndedAt: 2023-10-16 05:58:14 -0400 (Mon, 16 Oct 2023) EllapsedTime: 165.4 seconds RetCode: 0 Status: OK CheckDir: RefPlus.Rcheck Warnings: 0