Package: RgnTX Version: 1.2.0 Command: rm -rf RgnTX.buildbin-libdir && mkdir RgnTX.buildbin-libdir && /Users/biocbuild/BBS/utils/build-universal.sh RgnTX_1.2.0.tar.gz /Library/Frameworks/R.framework/Resources/bin/R RgnTX.buildbin-libdir StartedAt: 2023-10-16 10:02:40 -0400 (Mon, 16 Oct 2023) EndedAt: 2023-10-16 10:04:53 -0400 (Mon, 16 Oct 2023) EllapsedTime: 132.9 seconds RetCode: 0 Status: OK PackageFile: RgnTX_1.2.0.tgz PackageFileSize: 2.65 MiB