Package: RgnTX Version: 1.2.0 Command: /Library/Frameworks/R.framework/Resources/bin/R CMD INSTALL RgnTX StartedAt: 2023-10-15 15:43:01 -0400 (Sun, 15 Oct 2023) EndedAt: 2023-10-15 15:45:02 -0400 (Sun, 15 Oct 2023) EllapsedTime: 121.0 seconds RetCode: 0 Status: OK