Package: RgnTX Version: 1.2.0 Command: rm -rf RgnTX.buildbin-libdir && mkdir RgnTX.buildbin-libdir && F:\biocbuild\bbs-3.17-bioc\R\bin\R.exe CMD INSTALL --build --library=RgnTX.buildbin-libdir RgnTX_1.2.0.tar.gz StartedAt: 2023-10-16 09:22:51 -0400 (Mon, 16 Oct 2023) EndedAt: 2023-10-16 09:23:43 -0400 (Mon, 16 Oct 2023) EllapsedTime: 52.4 seconds RetCode: 0 Status: OK PackageFile: RgnTX_1.2.0.zip PackageFileSize: 2.468 MiB