Package: RiboCrypt Version: 1.6.0 Command: /home/biocbuild/bbs-3.17-bioc/R/bin/R CMD build --keep-empty-dirs --no-resave-data RiboCrypt StartedAt: 2023-10-15 18:12:28 -0400 (Sun, 15 Oct 2023) EndedAt: 2023-10-15 18:13:44 -0400 (Sun, 15 Oct 2023) EllapsedTime: 75.8 seconds RetCode: 0 Status: OK PackageFile: RiboCrypt_1.6.0.tar.gz PackageFileSize: 5.657 MiB