Package: RiboCrypt Version: 1.6.0 Command: rm -rf RiboCrypt.buildbin-libdir && mkdir RiboCrypt.buildbin-libdir && F:\biocbuild\bbs-3.17-bioc\R\bin\R.exe CMD INSTALL --build --library=RiboCrypt.buildbin-libdir RiboCrypt_1.6.0.tar.gz StartedAt: 2023-10-16 09:23:28 -0400 (Mon, 16 Oct 2023) EndedAt: 2023-10-16 09:24:24 -0400 (Mon, 16 Oct 2023) EllapsedTime: 56.7 seconds RetCode: 0 Status: OK PackageFile: RiboCrypt_1.6.0.zip PackageFileSize: 5.869 MiB