Package: RiboCrypt Version: 1.6.0 Command: chmod a+r RiboCrypt -R && F:\biocbuild\bbs-3.17-bioc\R\bin\R.exe CMD build --keep-empty-dirs --no-resave-data RiboCrypt StartedAt: 2023-10-15 21:48:17 -0400 (Sun, 15 Oct 2023) EndedAt: 2023-10-15 21:49:51 -0400 (Sun, 15 Oct 2023) EllapsedTime: 93.4 seconds RetCode: 0 Status: OK PackageFile: RiboCrypt_1.6.0.tar.gz PackageFileSize: 5.657 MiB