Package: Rmmquant Version: 1.18.0 Command: rm -rf Rmmquant.buildbin-libdir && mkdir Rmmquant.buildbin-libdir && /Users/biocbuild/BBS/utils/build-universal.sh Rmmquant_1.18.0.tar.gz /Library/Frameworks/R.framework/Resources/bin/R Rmmquant.buildbin-libdir StartedAt: 2023-10-16 10:04:49 -0400 (Mon, 16 Oct 2023) EndedAt: 2023-10-16 10:08:15 -0400 (Mon, 16 Oct 2023) EllapsedTime: 206.0 seconds RetCode: 0 Status: OK PackageFile: Rmmquant_1.18.0.tgz PackageFileSize: 457.4 KiB