Package: Rmmquant Version: 1.18.0 Command: F:\biocbuild\bbs-3.17-bioc\R\bin\R.exe CMD check --no-multiarch --install=check:Rmmquant.install-out.txt --library=F:\biocbuild\bbs-3.17-bioc\R\library --no-vignettes --timings Rmmquant_1.18.0.tar.gz StartedAt: 2023-10-16 06:06:24 -0400 (Mon, 16 Oct 2023) EndedAt: 2023-10-16 06:11:06 -0400 (Mon, 16 Oct 2023) EllapsedTime: 282.9 seconds RetCode: 0 Status: OK CheckDir: Rmmquant.Rcheck Warnings: 0