Package: Rmmquant Version: 1.18.0 Command: F:\biocbuild\bbs-3.17-bioc\R\bin\R.exe CMD INSTALL Rmmquant StartedAt: 2023-10-15 16:33:30 -0400 (Sun, 15 Oct 2023) EndedAt: 2023-10-15 16:34:45 -0400 (Sun, 15 Oct 2023) EllapsedTime: 74.4 seconds RetCode: 0 Status: OK