Package: Rsubread Version: 2.14.2 Command: rm -rf Rsubread.buildbin-libdir && mkdir Rsubread.buildbin-libdir && /Users/biocbuild/BBS/utils/build-universal.sh Rsubread_2.14.2.tar.gz /Library/Frameworks/R.framework/Resources/bin/R Rsubread.buildbin-libdir StartedAt: 2023-10-16 10:07:03 -0400 (Mon, 16 Oct 2023) EndedAt: 2023-10-16 10:09:12 -0400 (Mon, 16 Oct 2023) EllapsedTime: 129.0 seconds RetCode: 0 Status: OK PackageFile: Rsubread_2.14.2.tgz PackageFileSize: 13.21 MiB