Package: Rsubread Version: 2.14.2 Command: /Library/Frameworks/R.framework/Resources/bin/R CMD build --keep-empty-dirs --no-resave-data Rsubread StartedAt: 2023-10-15 20:52:20 -0400 (Sun, 15 Oct 2023) EndedAt: 2023-10-15 21:20:03 -0400 (Sun, 15 Oct 2023) EllapsedTime: 1663.1 seconds RetCode: 0 Status: OK PackageFile: Rsubread_2.14.2.tar.gz PackageFileSize: 12.94 MiB